BEGIN:VCALENDAR
VERSION:2.0
PRODID:-//My Yoga Home - ECPv5.0.0//NONSGML v1.0//EN
CALSCALE:GREGORIAN
METHOD:PUBLISH
X-WR-CALNAME:My Yoga Home
X-ORIGINAL-URL:http://myyogahome.com.au
X-WR-CALDESC:Events for My Yoga Home
BEGIN:VTIMEZONE
TZID:UTC
BEGIN:STANDARD
TZOFFSETFROM:+0000
TZOFFSETTO:+0000
TZNAME:UTC
DTSTART:20190101T000000
END:STANDARD
END:VTIMEZONE
BEGIN:VEVENT
DTSTART;TZID=UTC:20191018T180000
DTEND;TZID=UTC:20191018T193000
DTSTAMP:20210226T052547
CREATED:20191014T232658Z
LAST-MODIFIED:20191015T025244Z
UID:1700-1571421600-1571427000@myyogahome.com.au
SUMMARY:Essential Oils for Health and Happiness
DESCRIPTION:Join us to experience how to enhance your life with Young Living oils. Come and learn which oils can be used every day to lift the spirit\, boost vitality and deepen meditation. \nI will also be sharing the essential oils which can empower your yoga practice. \nPrice: $20 for nonmembers or $10 for members of My Yoga Home.\nWear: Comfortable clothes for sitting on the floor.\nBring: Notebook and pen for taking notes.\nPlease RSVP. \n.fusion-button.button-1 .fusion-button-text\, .fusion-button.button-1 i {color:#ffffff;}.fusion-button.button-1 {border-width:0px;border-color:#ffffff;}.fusion-button.button-1 .fusion-button-icon-divider{border-color:#ffffff;}.fusion-button.button-1:hover .fusion-button-text\, .fusion-button.button-1:hover i\,.fusion-button.button-1:focus .fusion-button-text\, .fusion-button.button-1:focus i\,.fusion-button.button-1:active .fusion-button-text\, .fusion-button.button-1:active{color:#474747;}.fusion-button.button-1:hover\, .fusion-button.button-1:focus\, .fusion-button.button-1:active{border-width:0px;border-color:#474747;}.fusion-button.button-1:hover .fusion-button-icon-divider\, .fusion-button.button-1:hover .fusion-button-icon-divider\, .fusion-button.button-1:active .fusion-button-icon-divider{border-color:#474747;}.fusion-button.button-1{width:auto;}Button Text\n
URL:http://myyogahome.com.au/event/essential-oils-for-health-and-happiness/
LOCATION:My Yoga Home – Ganges St\, 2 Ganges St\, West End\, Queensland\, 4101\, Australia
CATEGORIES:Events at My Yoga Home
ATTACH;FMTTYPE=image/jpeg:http://myyogahome.com.au/wp-content/uploads/2019/10/72138589_10157699797597427_8491998819276292096_o.jpg
ORGANIZER;CN="Kerill%20Ezzy":MAILTO:info@myyogahome.com.au
END:VEVENT
END:VCALENDAR